Package: diffuStats Version: 1.27.0 Command: /home/biocbuild/R/R/bin/R CMD build --keep-empty-dirs --no-resave-data diffuStats StartedAt: 2025-01-28 22:29:03 -0000 (Tue, 28 Jan 2025) EndedAt: 2025-01-28 22:29:50 -0000 (Tue, 28 Jan 2025) EllapsedTime: 47.0 seconds RetCode: 1 Status: ERROR PackageFile: None PackageFileSize: NA