Package: diffuStats Version: 1.27.0 Command: /home/biocbuild/R/R/bin/R CMD INSTALL diffuStats StartedAt: 2025-01-29 19:37:15 -0000 (Wed, 29 Jan 2025) EndedAt: 2025-01-29 19:37:55 -0000 (Wed, 29 Jan 2025) EllapsedTime: 39.9 seconds RetCode: 0 Status: OK