Package: diffuStats Version: 1.27.0 Command: rm -rf diffuStats.buildbin-libdir && mkdir diffuStats.buildbin-libdir && E:\biocbuild\bbs-3.21-bioc\R\bin\R.exe CMD INSTALL --build --library=diffuStats.buildbin-libdir diffuStats_1.27.0.tar.gz StartedAt: 2025-02-10 07:38:05 -0500 (Mon, 10 Feb 2025) EndedAt: 2025-02-10 07:39:01 -0500 (Mon, 10 Feb 2025) EllapsedTime: 55.1 seconds RetCode: 0 Status: OK PackageFile: diffuStats_1.27.0.zip PackageFileSize: 1.305 MiB