Package: diffuStats Version: 1.27.0 Command: chmod a+r diffuStats -R && E:\biocbuild\bbs-3.21-bioc\R\bin\R.exe CMD build --keep-empty-dirs --no-resave-data diffuStats StartedAt: 2025-02-09 18:22:22 -0500 (Sun, 09 Feb 2025) EndedAt: 2025-02-09 18:23:48 -0500 (Sun, 09 Feb 2025) EllapsedTime: 86.5 seconds RetCode: 0 Status: OK PackageFile: diffuStats_1.27.0.tar.gz PackageFileSize: 930.7 KiB