Package: diffuStats Version: 1.27.0 Command: E:\biocbuild\bbs-3.21-bioc\R\bin\R.exe CMD INSTALL diffuStats StartedAt: 2025-02-09 15:31:44 -0500 (Sun, 09 Feb 2025) EndedAt: 2025-02-09 15:32:40 -0500 (Sun, 09 Feb 2025) EllapsedTime: 56.0 seconds RetCode: 0 Status: OK