Package: diggit Version: 1.39.0 Command: rm -rf diggit.buildbin-libdir && mkdir diggit.buildbin-libdir && /Users/biocbuild/BBS/utils/build-universal.sh diggit_1.39.0.tar.gz /Library/Frameworks/R.framework/Resources/bin/R diggit.buildbin-libdir StartedAt: 2025-02-09 22:12:28 -0500 (Sun, 09 Feb 2025) EndedAt: 2025-02-09 22:12:34 -0500 (Sun, 09 Feb 2025) EllapsedTime: 6.1 seconds RetCode: 0 Status: OK PackageFile: diggit_1.39.0.tgz PackageFileSize: 607.2 KiB