Package: diggit Version: 1.39.0 Command: /Library/Frameworks/R.framework/Resources/bin/R CMD build --keep-empty-dirs --no-resave-data diggit StartedAt: 2025-02-09 16:08:53 -0500 (Sun, 09 Feb 2025) EndedAt: 2025-02-09 16:09:49 -0500 (Sun, 09 Feb 2025) EllapsedTime: 56.6 seconds RetCode: 0 Status: OK PackageFile: diggit_1.39.0.tar.gz PackageFileSize: 348.7 KiB