Package: diggit Version: 1.39.0 Command: /Library/Frameworks/R.framework/Resources/bin/R CMD check --install=check:diggit.install-out.txt --library=/Library/Frameworks/R.framework/Resources/library --no-vignettes --timings diggit_1.39.0.tar.gz StartedAt: 2025-02-03 19:35:28 -0500 (Mon, 03 Feb 2025) EndedAt: 2025-02-03 19:36:35 -0500 (Mon, 03 Feb 2025) EllapsedTime: 66.8 seconds RetCode: 0 Status: WARNINGS CheckDir: diggit.Rcheck Warnings: 3