Package: diggit Version: 1.39.0 Command: /Library/Frameworks/R.framework/Resources/bin/R CMD INSTALL diggit StartedAt: 2025-02-09 15:20:08 -0500 (Sun, 09 Feb 2025) EndedAt: 2025-02-09 15:20:12 -0500 (Sun, 09 Feb 2025) EllapsedTime: 4.9 seconds RetCode: 0 Status: OK