Package: diggit Version: 1.39.0 Command: rm -rf diggit.buildbin-libdir && mkdir diggit.buildbin-libdir && /Users/biocbuild/BBS/utils/build-universal.sh diggit_1.39.0.tar.gz /Library/Frameworks/R.framework/Resources/bin/R diggit.buildbin-libdir StartedAt: 2025-02-10 00:50:45 -0500 (Mon, 10 Feb 2025) EndedAt: 2025-02-10 00:51:06 -0500 (Mon, 10 Feb 2025) EllapsedTime: 20.8 seconds RetCode: 0 Status: OK PackageFile: diggit_1.39.0.tgz PackageFileSize: 606.3 KiB