Package: diggit Version: 1.39.0 Command: /Library/Frameworks/R.framework/Resources/bin/R CMD check --install=check:diggit.install-out.txt --library=/Library/Frameworks/R.framework/Resources/library --no-vignettes --timings diggit_1.39.0.tar.gz StartedAt: 2025-02-09 20:20:43 -0500 (Sun, 09 Feb 2025) EndedAt: 2025-02-09 20:23:48 -0500 (Sun, 09 Feb 2025) EllapsedTime: 185.2 seconds RetCode: 0 Status: WARNINGS CheckDir: diggit.Rcheck Warnings: 3