Package: diggit Version: 1.39.0 Command: /home/biocbuild/bbs-3.21-bioc/R/bin/R CMD build --keep-empty-dirs --no-resave-data diggit StartedAt: 2025-02-09 17:01:20 -0500 (Sun, 09 Feb 2025) EndedAt: 2025-02-09 17:03:42 -0500 (Sun, 09 Feb 2025) EllapsedTime: 142.1 seconds RetCode: 0 Status: OK PackageFile: diggit_1.39.0.tar.gz PackageFileSize: 348.8 KiB