Package: diggit Version: 1.39.0 Command: rm -rf diggit.buildbin-libdir && mkdir diggit.buildbin-libdir && E:\biocbuild\bbs-3.21-bioc\R\bin\R.exe CMD INSTALL --build --library=diggit.buildbin-libdir diggit_1.39.0.tar.gz StartedAt: 2025-02-04 07:51:38 -0500 (Tue, 04 Feb 2025) EndedAt: 2025-02-04 07:52:04 -0500 (Tue, 04 Feb 2025) EllapsedTime: 25.8 seconds RetCode: 0 Status: OK PackageFile: diggit_1.39.0.zip PackageFileSize: 466.3 KiB