Package: diggit Version: 1.39.0 Command: E:\biocbuild\bbs-3.21-bioc\R\bin\R.exe CMD check --no-multiarch --install=check:diggit.install-out.txt --library=E:\biocbuild\bbs-3.21-bioc\R\library --no-vignettes --timings diggit_1.39.0.tar.gz StartedAt: 2025-02-10 00:32:51 -0500 (Mon, 10 Feb 2025) EndedAt: 2025-02-10 00:37:11 -0500 (Mon, 10 Feb 2025) EllapsedTime: 260.0 seconds RetCode: 0 Status: WARNINGS CheckDir: diggit.Rcheck Warnings: 3