Package: diggit Version: 1.39.0 Command: E:\biocbuild\bbs-3.21-bioc\R\bin\R.exe CMD INSTALL diggit StartedAt: 2025-02-03 16:09:22 -0500 (Mon, 03 Feb 2025) EndedAt: 2025-02-03 16:09:56 -0500 (Mon, 03 Feb 2025) EllapsedTime: 33.6 seconds RetCode: 0 Status: OK