Package: dinoR Version: 1.3.0 Command: rm -rf dinoR.buildbin-libdir && mkdir dinoR.buildbin-libdir && /Users/biocbuild/BBS/utils/build-universal.sh dinoR_1.3.0.tar.gz /Library/Frameworks/R.framework/Resources/bin/R dinoR.buildbin-libdir StartedAt: 2025-02-03 22:48:19 -0500 (Mon, 03 Feb 2025) EndedAt: 2025-02-03 22:48:31 -0500 (Mon, 03 Feb 2025) EllapsedTime: 11.2 seconds RetCode: 0 Status: OK PackageFile: dinoR_1.3.0.tgz PackageFileSize: 3.087 MiB