Package: dinoR Version: 1.3.0 Command: /Library/Frameworks/R.framework/Resources/bin/R CMD build --keep-empty-dirs --no-resave-data dinoR StartedAt: 2025-02-09 16:09:03 -0500 (Sun, 09 Feb 2025) EndedAt: 2025-02-09 16:09:29 -0500 (Sun, 09 Feb 2025) EllapsedTime: 26.3 seconds RetCode: 0 Status: OK PackageFile: dinoR_1.3.0.tar.gz PackageFileSize: 3.24 MiB