Package: dinoR Version: 1.3.0 Command: /Library/Frameworks/R.framework/Resources/bin/R CMD check --install=check:dinoR.install-out.txt --library=/Library/Frameworks/R.framework/Resources/library --no-vignettes --timings dinoR_1.3.0.tar.gz StartedAt: 2025-02-03 19:35:49 -0500 (Mon, 03 Feb 2025) EndedAt: 2025-02-03 19:37:12 -0500 (Mon, 03 Feb 2025) EllapsedTime: 83.0 seconds RetCode: 0 Status: OK CheckDir: dinoR.Rcheck Warnings: 0