Package: dinoR Version: 1.3.0 Command: /Library/Frameworks/R.framework/Resources/bin/R CMD INSTALL dinoR StartedAt: 2025-02-12 15:22:47 -0500 (Wed, 12 Feb 2025) EndedAt: 2025-02-12 15:23:25 -0500 (Wed, 12 Feb 2025) EllapsedTime: 38.5 seconds RetCode: 0 Status: OK