Package: dinoR Version: 1.3.0 Command: /home/biocbuild/bbs-3.21-bioc/R/bin/R CMD build --keep-empty-dirs --no-resave-data dinoR StartedAt: 2025-02-09 17:01:39 -0500 (Sun, 09 Feb 2025) EndedAt: 2025-02-09 17:02:48 -0500 (Sun, 09 Feb 2025) EllapsedTime: 69.1 seconds RetCode: 0 Status: OK PackageFile: dinoR_1.3.0.tar.gz PackageFileSize: 3.229 MiB