Package: dinoR Version: 1.3.0 Command: E:\biocbuild\bbs-3.21-bioc\R\bin\R.exe CMD INSTALL dinoR StartedAt: 2025-02-09 16:16:37 -0500 (Sun, 09 Feb 2025) EndedAt: 2025-02-09 16:17:08 -0500 (Sun, 09 Feb 2025) EllapsedTime: 31.1 seconds RetCode: 0 Status: OK