Package: distinct Version: 1.19.0 Command: /Library/Frameworks/R.framework/Resources/bin/R CMD INSTALL distinct StartedAt: 2025-02-09 15:25:08 -0500 (Sun, 09 Feb 2025) EndedAt: 2025-02-09 15:25:29 -0500 (Sun, 09 Feb 2025) EllapsedTime: 20.7 seconds RetCode: 0 Status: OK