Package: distinct Version: 1.19.0 Command: /home/biocbuild/R/R/bin/R CMD build --keep-empty-dirs --no-resave-data distinct StartedAt: 2025-01-28 22:30:40 -0000 (Tue, 28 Jan 2025) EndedAt: 2025-01-28 22:35:25 -0000 (Tue, 28 Jan 2025) EllapsedTime: 285.1 seconds RetCode: 0 Status: OK PackageFile: distinct_1.19.0.tar.gz PackageFileSize: 1.583 MiB