Package: distinct Version: 1.19.0 Command: /home/biocbuild/bbs-3.21-bioc/R/bin/R CMD check --install=check:distinct.install-out.txt --library=/home/biocbuild/bbs-3.21-bioc/R/site-library --timings distinct_1.19.0.tar.gz StartedAt: 2025-02-12 21:49:00 -0500 (Wed, 12 Feb 2025) EndedAt: 2025-02-12 21:57:39 -0500 (Wed, 12 Feb 2025) EllapsedTime: 518.7 seconds RetCode: 0 Status: OK CheckDir: distinct.Rcheck Warnings: 0