Package: distinct Version: 1.19.0 Command: /home/biocbuild/bbs-3.21-bioc/R/bin/R CMD INSTALL distinct StartedAt: 2025-02-09 15:54:33 -0500 (Sun, 09 Feb 2025) EndedAt: 2025-02-09 15:55:41 -0500 (Sun, 09 Feb 2025) EllapsedTime: 68.6 seconds RetCode: 0 Status: OK