Package: distinct Version: 1.19.0 Command: rm -rf distinct.buildbin-libdir && mkdir distinct.buildbin-libdir && E:\biocbuild\bbs-3.21-bioc\R\bin\R.exe CMD INSTALL --build --library=distinct.buildbin-libdir distinct_1.19.0.tar.gz StartedAt: 2025-02-13 07:49:04 -0500 (Thu, 13 Feb 2025) EndedAt: 2025-02-13 07:50:27 -0500 (Thu, 13 Feb 2025) EllapsedTime: 82.4 seconds RetCode: 0 Status: OK PackageFile: distinct_1.19.0.zip PackageFileSize: 1.913 MiB