Package: distinct Version: 1.19.0 Command: chmod a+r distinct -R && E:\biocbuild\bbs-3.21-bioc\R\bin\R.exe CMD build --keep-empty-dirs --no-resave-data distinct StartedAt: 2025-02-12 18:27:34 -0500 (Wed, 12 Feb 2025) EndedAt: 2025-02-12 18:32:01 -0500 (Wed, 12 Feb 2025) EllapsedTime: 267.4 seconds RetCode: 0 Status: OK PackageFile: distinct_1.19.0.tar.gz PackageFileSize: 1.468 MiB