Package: distinct Version: 1.19.0 Command: E:\biocbuild\bbs-3.21-bioc\R\bin\R.exe CMD INSTALL distinct StartedAt: 2025-02-12 16:49:12 -0500 (Wed, 12 Feb 2025) EndedAt: 2025-02-12 16:50:32 -0500 (Wed, 12 Feb 2025) EllapsedTime: 80.5 seconds RetCode: 0 Status: OK