Package: divergence Version: 1.23.0 Command: /Library/Frameworks/R.framework/Resources/bin/R CMD check --install=check:divergence.install-out.txt --library=/Library/Frameworks/R.framework/Resources/library --no-vignettes --timings divergence_1.23.0.tar.gz StartedAt: 2025-02-03 19:36:34 -0500 (Mon, 03 Feb 2025) EndedAt: 2025-02-03 19:37:37 -0500 (Mon, 03 Feb 2025) EllapsedTime: 62.8 seconds RetCode: 0 Status: OK CheckDir: divergence.Rcheck Warnings: 0