Package: divergence Version: 1.23.0 Command: /Library/Frameworks/R.framework/Resources/bin/R CMD INSTALL divergence StartedAt: 2025-02-09 15:04:36 -0500 (Sun, 09 Feb 2025) EndedAt: 2025-02-09 15:04:46 -0500 (Sun, 09 Feb 2025) EllapsedTime: 9.1 seconds RetCode: 0 Status: OK