Package: divergence Version: 1.23.0 Command: /home/biocbuild/R/R/bin/R CMD check --install=check:divergence.install-out.txt --library=/home/biocbuild/R/R/site-library --no-vignettes --timings divergence_1.23.0.tar.gz StartedAt: 2025-01-28 10:01:56 -0000 (Tue, 28 Jan 2025) EndedAt: 2025-01-28 10:05:24 -0000 (Tue, 28 Jan 2025) EllapsedTime: 208.2 seconds RetCode: 0 Status: OK CheckDir: divergence.Rcheck Warnings: 0