Package: divergence Version: 1.23.0 Command: /home/biocbuild/R/R/bin/R CMD INSTALL divergence StartedAt: 2025-01-29 19:40:09 -0000 (Wed, 29 Jan 2025) EndedAt: 2025-01-29 19:40:36 -0000 (Wed, 29 Jan 2025) EllapsedTime: 27.5 seconds RetCode: 0 Status: OK