Package: divergence Version: 1.23.0 Command: rm -rf divergence.buildbin-libdir && mkdir divergence.buildbin-libdir && /Users/biocbuild/BBS/utils/build-universal.sh divergence_1.23.0.tar.gz /Library/Frameworks/R.framework/Resources/bin/R divergence.buildbin-libdir StartedAt: 2025-02-10 00:50:55 -0500 (Mon, 10 Feb 2025) EndedAt: 2025-02-10 00:51:26 -0500 (Mon, 10 Feb 2025) EllapsedTime: 31.1 seconds RetCode: 0 Status: OK PackageFile: divergence_1.23.0.tgz PackageFileSize: 1.953 MiB