Package: divergence Version: 1.23.0 Command: /Library/Frameworks/R.framework/Resources/bin/R CMD build --keep-empty-dirs --no-resave-data divergence StartedAt: 2025-02-09 16:35:37 -0500 (Sun, 09 Feb 2025) EndedAt: 2025-02-09 16:36:39 -0500 (Sun, 09 Feb 2025) EllapsedTime: 62.9 seconds RetCode: 0 Status: OK PackageFile: divergence_1.23.0.tar.gz PackageFileSize: 2.072 MiB