Package: divergence Version: 1.23.0 Command: /Library/Frameworks/R.framework/Resources/bin/R CMD check --install=check:divergence.install-out.txt --library=/Library/Frameworks/R.framework/Resources/library --no-vignettes --timings divergence_1.23.0.tar.gz StartedAt: 2025-02-09 20:22:32 -0500 (Sun, 09 Feb 2025) EndedAt: 2025-02-09 20:25:53 -0500 (Sun, 09 Feb 2025) EllapsedTime: 201.1 seconds RetCode: 0 Status: OK CheckDir: divergence.Rcheck Warnings: 0