Package: divergence Version: 1.23.0 Command: /Library/Frameworks/R.framework/Resources/bin/R CMD INSTALL divergence StartedAt: 2025-02-09 15:10:36 -0500 (Sun, 09 Feb 2025) EndedAt: 2025-02-09 15:11:06 -0500 (Sun, 09 Feb 2025) EllapsedTime: 29.6 seconds RetCode: 0 Status: OK