Package: divergence Version: 1.23.0 Command: /home/biocbuild/bbs-3.21-bioc/R/bin/R CMD build --keep-empty-dirs --no-resave-data divergence StartedAt: 2025-02-03 17:11:13 -0500 (Mon, 03 Feb 2025) EndedAt: 2025-02-03 17:12:06 -0500 (Mon, 03 Feb 2025) EllapsedTime: 53.0 seconds RetCode: 0 Status: OK PackageFile: divergence_1.23.0.tar.gz PackageFileSize: 2.072 MiB