Package: divergence Version: 1.23.0 Command: /home/biocbuild/bbs-3.21-bioc/R/bin/R CMD check --install=check:divergence.install-out.txt --library=/home/biocbuild/bbs-3.21-bioc/R/site-library --timings divergence_1.23.0.tar.gz StartedAt: 2025-02-09 21:50:39 -0500 (Sun, 09 Feb 2025) EndedAt: 2025-02-09 21:54:09 -0500 (Sun, 09 Feb 2025) EllapsedTime: 210.3 seconds RetCode: 0 Status: OK CheckDir: divergence.Rcheck Warnings: 0