Package: divergence Version: 1.23.0 Command: /home/biocbuild/bbs-3.21-bioc/R/bin/R CMD INSTALL divergence StartedAt: 2025-02-09 15:17:02 -0500 (Sun, 09 Feb 2025) EndedAt: 2025-02-09 15:17:22 -0500 (Sun, 09 Feb 2025) EllapsedTime: 20.7 seconds RetCode: 0 Status: OK