Package: divergence Version: 1.23.0 Command: rm -rf divergence.buildbin-libdir && mkdir divergence.buildbin-libdir && E:\biocbuild\bbs-3.21-bioc\R\bin\R.exe CMD INSTALL --build --library=divergence.buildbin-libdir divergence_1.23.0.tar.gz StartedAt: 2025-02-10 07:38:28 -0500 (Mon, 10 Feb 2025) EndedAt: 2025-02-10 07:39:06 -0500 (Mon, 10 Feb 2025) EllapsedTime: 38.2 seconds RetCode: 0 Status: OK PackageFile: divergence_1.23.0.zip PackageFileSize: 1.954 MiB