Package: divergence Version: 1.23.0 Command: E:\biocbuild\bbs-3.21-bioc\R\bin\R.exe CMD check --no-multiarch --install=check:divergence.install-out.txt --library=E:\biocbuild\bbs-3.21-bioc\R\library --no-vignettes --timings divergence_1.23.0.tar.gz StartedAt: 2025-02-10 00:34:55 -0500 (Mon, 10 Feb 2025) EndedAt: 2025-02-10 00:38:38 -0500 (Mon, 10 Feb 2025) EllapsedTime: 223.5 seconds RetCode: 0 Status: OK CheckDir: divergence.Rcheck Warnings: 0