Package: doubletrouble Version: 1.7.0 Command: rm -rf doubletrouble.buildbin-libdir && mkdir doubletrouble.buildbin-libdir && /Users/biocbuild/BBS/utils/build-universal.sh doubletrouble_1.7.0.tar.gz /Library/Frameworks/R.framework/Resources/bin/R doubletrouble.buildbin-libdir StartedAt: 2025-02-09 22:12:49 -0500 (Sun, 09 Feb 2025) EndedAt: 2025-02-09 22:13:07 -0500 (Sun, 09 Feb 2025) EllapsedTime: 17.4 seconds RetCode: 0 Status: OK PackageFile: doubletrouble_1.7.0.tgz PackageFileSize: 4.894 MiB