Package: doubletrouble Version: 1.7.0 Command: /Library/Frameworks/R.framework/Resources/bin/R CMD INSTALL doubletrouble StartedAt: 2025-02-09 15:18:48 -0500 (Sun, 09 Feb 2025) EndedAt: 2025-02-09 15:19:05 -0500 (Sun, 09 Feb 2025) EllapsedTime: 16.9 seconds RetCode: 0 Status: OK