Package: doubletrouble Version: 1.7.0 Command: /home/biocbuild/R/R/bin/R CMD check --install=check:doubletrouble.install-out.txt --library=/home/biocbuild/R/R/site-library --no-vignettes --timings doubletrouble_1.7.0.tar.gz StartedAt: 2025-01-28 10:07:24 -0000 (Tue, 28 Jan 2025) EndedAt: 2025-01-28 10:13:58 -0000 (Tue, 28 Jan 2025) EllapsedTime: 394.5 seconds RetCode: 0 Status: OK CheckDir: doubletrouble.Rcheck Warnings: 0