Package: doubletrouble Version: 1.7.0 Command: /Library/Frameworks/R.framework/Resources/bin/R CMD check --install=check:doubletrouble.install-out.txt --library=/Library/Frameworks/R.framework/Resources/library --no-vignettes --timings doubletrouble_1.7.0.tar.gz StartedAt: 2025-02-09 20:25:26 -0500 (Sun, 09 Feb 2025) EndedAt: 2025-02-09 20:31:22 -0500 (Sun, 09 Feb 2025) EllapsedTime: 356.0 seconds RetCode: 0 Status: OK CheckDir: doubletrouble.Rcheck Warnings: 0