Package: doubletrouble Version: 1.7.0 Command: /home/biocbuild/bbs-3.21-bioc/R/bin/R CMD check --install=check:doubletrouble.install-out.txt --library=/home/biocbuild/bbs-3.21-bioc/R/site-library --timings doubletrouble_1.7.0.tar.gz StartedAt: 2025-02-09 21:54:16 -0500 (Sun, 09 Feb 2025) EndedAt: 2025-02-09 22:00:05 -0500 (Sun, 09 Feb 2025) EllapsedTime: 349.4 seconds RetCode: 0 Status: OK CheckDir: doubletrouble.Rcheck Warnings: 0