Package: doubletrouble Version: 1.7.0 Command: rm -rf doubletrouble.buildbin-libdir && mkdir doubletrouble.buildbin-libdir && E:\biocbuild\bbs-3.21-bioc\R\bin\R.exe CMD INSTALL --build --library=doubletrouble.buildbin-libdir doubletrouble_1.7.0.tar.gz StartedAt: 2025-02-10 07:39:24 -0500 (Mon, 10 Feb 2025) EndedAt: 2025-02-10 07:40:18 -0500 (Mon, 10 Feb 2025) EllapsedTime: 54.0 seconds RetCode: 0 Status: OK PackageFile: doubletrouble_1.7.0.zip PackageFileSize: 4.32 MiB