Package: doubletrouble Version: 1.7.0 Command: chmod a+r doubletrouble -R && E:\biocbuild\bbs-3.21-bioc\R\bin\R.exe CMD build --keep-empty-dirs --no-resave-data doubletrouble StartedAt: 2025-02-09 18:27:11 -0500 (Sun, 09 Feb 2025) EndedAt: 2025-02-09 18:28:59 -0500 (Sun, 09 Feb 2025) EllapsedTime: 107.8 seconds RetCode: 0 Status: OK PackageFile: doubletrouble_1.7.0.tar.gz PackageFileSize: 4.257 MiB