Package: doubletrouble Version: 1.7.0 Command: E:\biocbuild\bbs-3.21-bioc\R\bin\R.exe CMD check --no-multiarch --install=check:doubletrouble.install-out.txt --library=E:\biocbuild\bbs-3.21-bioc\R\library --no-vignettes --timings doubletrouble_1.7.0.tar.gz StartedAt: 2025-02-10 00:39:27 -0500 (Mon, 10 Feb 2025) EndedAt: 2025-02-10 00:46:03 -0500 (Mon, 10 Feb 2025) EllapsedTime: 396.9 seconds RetCode: 0 Status: OK CheckDir: doubletrouble.Rcheck Warnings: 0