Package: doubletrouble Version: 1.7.0 Command: E:\biocbuild\bbs-3.21-bioc\R\bin\R.exe CMD INSTALL doubletrouble StartedAt: 2025-02-09 16:28:04 -0500 (Sun, 09 Feb 2025) EndedAt: 2025-02-09 16:29:11 -0500 (Sun, 09 Feb 2025) EllapsedTime: 66.4 seconds RetCode: 0 Status: OK